BEGIN:VCALENDAR
VERSION:2.0
PRODID:-//Prototyping Solutions - ECPv6.15.11//NONSGML v1.0//EN
CALSCALE:GREGORIAN
METHOD:PUBLISH
X-ORIGINAL-URL:https://prototypingsolutions.com
X-WR-CALDESC:Events for Prototyping Solutions
REFRESH-INTERVAL;VALUE=DURATION:PT1H
X-Robots-Tag:noindex
X-PUBLISHED-TTL:PT1H
BEGIN:VTIMEZONE
TZID:America/New_York
BEGIN:DAYLIGHT
TZOFFSETFROM:-0500
TZOFFSETTO:-0400
TZNAME:EDT
DTSTART:20240310T070000
END:DAYLIGHT
BEGIN:STANDARD
TZOFFSETFROM:-0400
TZOFFSETTO:-0500
TZNAME:EST
DTSTART:20241103T060000
END:STANDARD
BEGIN:DAYLIGHT
TZOFFSETFROM:-0500
TZOFFSETTO:-0400
TZNAME:EDT
DTSTART:20250309T070000
END:DAYLIGHT
BEGIN:STANDARD
TZOFFSETFROM:-0400
TZOFFSETTO:-0500
TZNAME:EST
DTSTART:20251102T060000
END:STANDARD
BEGIN:DAYLIGHT
TZOFFSETFROM:-0500
TZOFFSETTO:-0400
TZNAME:EDT
DTSTART:20260308T070000
END:DAYLIGHT
BEGIN:STANDARD
TZOFFSETFROM:-0400
TZOFFSETTO:-0500
TZNAME:EST
DTSTART:20261101T060000
END:STANDARD
END:VTIMEZONE
BEGIN:VEVENT
DTSTART;TZID=America/New_York:20251105T080000
DTEND;TZID=America/New_York:20251106T170000
DTSTAMP:20260421T040831
CREATED:20250915T142518Z
LAST-MODIFIED:20250915T142518Z
UID:10000177-1762329600-1762448400@prototypingsolutions.com
SUMMARY:South Carolina Manufacturing Conf & Expo
DESCRIPTION:Visit us at Booth 111 – \nThe South Carolina Manufacturing Conference & Expo came to life in 2015 with the sole intention of connecting the manufacturing community—not just in South Carolina\, but across the Southeast. Hosted by SCBIZ News\, we strive to deliver relevant content and remain the region’s most significant manufacturing event of the year. \nEach year\, professionals from across the Southeast come together to discuss the latest manufacturing trends\, share their vision\, gain inspiration\, and immerse themselves in manufacturing culture. \nAt our most recent in-person conference in Greenville\, SC\, more than 150+ companies exhibited\, and over 1\,400+ attendees registered!
URL:https://prototypingsolutions.com/event/south-carolina-manufacturing-conf-expo/
LOCATION:Greenville\, SC
END:VEVENT
BEGIN:VEVENT
DTSTART;TZID=America/New_York:20251021T080000
DTEND;TZID=America/New_York:20251023T170000
DTSTAMP:20260421T040831
CREATED:20250915T141723Z
LAST-MODIFIED:20250915T141811Z
UID:10000176-1761033600-1761238800@prototypingsolutions.com
SUMMARY:SME Manufacturing Tech Series 2025
DESCRIPTION:Visit us at Booth 2213 – \nEach Manufacturing Technology Series event draws together key decision makers\, major tool and technology suppliers and thought leaders from across a broad spectrum of manufacturing disciplines for an unparalleled three-day experience. Hands-on equipment demonstrations\, world-class keynotes and panel discussions\, emerging manufacturing technology showcases and unmatched networking activities offer the education\, connection and collaboration opportunities that only face-to-face\, in-person interaction can provide. Industry leaders know that the Manufacturing Technology Series is where knowledge is shared\, technologies are introduced\, deals are made and the industry’s future is shaped. That’s why more than 1\,400 exhibitors and 25\,000 attendees make the Manufacturing Technology Series
URL:https://prototypingsolutions.com/event/sme-manufacturing-tech-series-2025/
LOCATION:Greenville\, SC
END:VEVENT
END:VCALENDAR