BEGIN:VCALENDAR
VERSION:2.0
PRODID:-//Prototyping Solutions - ECPv6.15.11//NONSGML v1.0//EN
CALSCALE:GREGORIAN
METHOD:PUBLISH
X-ORIGINAL-URL:https://prototypingsolutions.com
X-WR-CALDESC:Events for Prototyping Solutions
REFRESH-INTERVAL;VALUE=DURATION:PT1H
X-Robots-Tag:noindex
X-PUBLISHED-TTL:PT1H
BEGIN:VTIMEZONE
TZID:America/New_York
BEGIN:DAYLIGHT
TZOFFSETFROM:-0500
TZOFFSETTO:-0400
TZNAME:EDT
DTSTART:20230312T070000
END:DAYLIGHT
BEGIN:STANDARD
TZOFFSETFROM:-0400
TZOFFSETTO:-0500
TZNAME:EST
DTSTART:20231105T060000
END:STANDARD
BEGIN:DAYLIGHT
TZOFFSETFROM:-0500
TZOFFSETTO:-0400
TZNAME:EDT
DTSTART:20240310T070000
END:DAYLIGHT
BEGIN:STANDARD
TZOFFSETFROM:-0400
TZOFFSETTO:-0500
TZNAME:EST
DTSTART:20241103T060000
END:STANDARD
BEGIN:DAYLIGHT
TZOFFSETFROM:-0500
TZOFFSETTO:-0400
TZNAME:EDT
DTSTART:20250309T070000
END:DAYLIGHT
BEGIN:STANDARD
TZOFFSETFROM:-0400
TZOFFSETTO:-0500
TZNAME:EST
DTSTART:20251102T060000
END:STANDARD
END:VTIMEZONE
BEGIN:VEVENT
DTSTART;VALUE=DATE:20240506
DTEND;VALUE=DATE:20240511
DTSTAMP:20260419T113026
CREATED:20240416T181206Z
LAST-MODIFIED:20240416T183457Z
UID:10000153-1714953600-1715385599@prototypingsolutions.com
SUMMARY:NPE 2024 Plastics Show
DESCRIPTION:Booth #S25203\, South Hall\, Level 1 \nBUILT FOR BUSINESS​\nWith more than 55\,000 leaders from over 110 countries representing every industry—from automotive to healthcare to consumer products to construction and more\, NPE® is the largest plastics trade show in the Americas and one of the most innovative business events in the world.
URL:https://prototypingsolutions.com/event/npe-2024-plastics-show/
LOCATION:Orange County Convention Center\, 9400 Universal Boulevard\, Orlando\, FL\, 32819\, United States
CATEGORIES:Events
END:VEVENT
END:VCALENDAR